BEGIN:VCALENDAR
VERSION:2.0
PRODID:-//Plone.org//NONSGML plone.app.event//EN
X-WR-TIMEZONE:Europe/Madrid
BEGIN:VEVENT
SUMMARY:Torneig de dòmino al Casal Municipal
DTSTART;TZID=Europe/Madrid;VALUE=DATE-TIME:20230706T160000
DTEND;TZID=Europe/Madrid;VALUE=DATE-TIME:20230706T170000
DTSTAMP;VALUE=DATE-TIME:20260425T004757Z
UID:495e2a3219a4461f3c60976194d91b1d
CREATED;VALUE=DATE-TIME:20230704T000000Z
CATEGORIES:Festa
LOCATION:Casal Municipal de la Gent Gran Sant Sadurní - Ps. Can Ferrer 11
ORGANIZER:Pere Rubies i Casal Municipal
COMMENT:Preu: Gratuït
Durada: Tres dies
URL:https://www.santsadurni.cat/document.php?id=19237
END:VEVENT
END:VCALENDAR