BEGIN:VCALENDAR
VERSION:2.0
PRODID:-//Plone.org//NONSGML plone.app.event//EN
X-WR-TIMEZONE:Europe/Madrid
BEGIN:VEVENT
SUMMARY:Festa del Barri Vilarnau
DTSTART;TZID=Europe/Madrid;VALUE=DATE-TIME:20230709T000000
DTEND;TZID=Europe/Madrid;VALUE=DATE-TIME:20230709T010000
DTSTAMP;VALUE=DATE-TIME:20260425T004904Z
UID:252e8a2496a8c8f6c23dba4b1366ada0
CREATED;VALUE=DATE-TIME:20230707T000000Z
CATEGORIES:Festa
LOCATION:Barri Vilarnau
URL:https://www.santsadurni.cat/document.php?id=19239
END:VEVENT
END:VCALENDAR