BEGIN:VCALENDAR
VERSION:2.0
PRODID:-//Plone.org//NONSGML plone.app.event//EN
X-WR-TIMEZONE:Europe/Madrid
BEGIN:VEVENT
SUMMARY:Taller de dibuix per a joves i adults Doodles a càrrec de Carme Rimbau
DTSTART;TZID=Europe/Madrid;VALUE=DATE-TIME:20230711T183000
DTEND;TZID=Europe/Madrid;VALUE=DATE-TIME:20230711T193000
DTSTAMP;VALUE=DATE-TIME:20260422T063036Z
UID:131cca93a3a07234df6e0b09956235b5
CREATED;VALUE=DATE-TIME:20230711T000000Z
CATEGORIES:Cursos,Formació
LOCATION:Biblioteca Ramon Bosch de Noya - Plaça 1er Homenatge a la Vellesa, 10
ORGANIZER:Biblioteca Municipal
DESCRIPTION:Aprèn a fer un doodle, un dibuix fàcil i bonic. L'art de gargotejar. Inscripcions a partir del 21 de juny al web www.santsadurni.cat/tallerdoodles
URL:https://www.santsadurni.cat/document.php?id=19262
END:VEVENT
END:VCALENDAR