BEGIN:VCALENDAR
VERSION:2.0
PRODID:-//Plone.org//NONSGML plone.app.event//EN
X-WR-TIMEZONE:Europe/Madrid
BEGIN:VEVENT
SUMMARY:40è aniversari Associació de Vídues
DTSTART;TZID=Europe/Madrid;VALUE=DATE-TIME:20230716T120000
DTEND;TZID=Europe/Madrid;VALUE=DATE-TIME:20230716T130000
DTSTAMP;VALUE=DATE-TIME:20260421T161316Z
UID:79aaae666e7b8e35ce45180d3d536e2e
CREATED;VALUE=DATE-TIME:20230716T000000Z
CATEGORIES:Festa
LOCATION:Església Parroquial de Sant Sadurní d'Anoia
ORGANIZER:Associació de Vídues de Sant Sadurní d'Anoia i col·labora l'Ajuntament de Sant Sadurní d'Anoia
COMMENT:Preu: 40-50&euro;
URL:https://www.santsadurni.cat/document.php?id=19269
END:VEVENT
END:VCALENDAR