BEGIN:VCALENDAR
VERSION:2.0
PRODID:-//Plone.org//NONSGML plone.app.event//EN
X-WR-TIMEZONE:Europe/Madrid
BEGIN:VEVENT
SUMMARY:Cinema a la fresca "ALCARRÀS"
DTSTART;TZID=Europe/Madrid;VALUE=DATE-TIME:20230714T223000
DTEND;TZID=Europe/Madrid;VALUE=DATE-TIME:20230714T233000
DTSTAMP;VALUE=DATE-TIME:20260421T144924Z
UID:d1b1df8cfdf177de0860f45103490e01
CREATED;VALUE=DATE-TIME:20230714T000000Z
CATEGORIES:Cinema
LOCATION:Espiells
ORGANIZER:Regidoria de cultura
COMMENT:Preu: Gratuït
DESCRIPTION:a la plaça d'Espiells
URL:https://www.santsadurni.cat/document.php?id=19272
END:VEVENT
END:VCALENDAR