BEGIN:VCALENDAR
VERSION:2.0
PRODID:-//Plone.org//NONSGML plone.app.event//EN
X-WR-TIMEZONE:Europe/Madrid
BEGIN:VEVENT
SUMMARY:Festa d'Estiu
DTSTART;TZID=Europe/Madrid;VALUE=DATE-TIME:20230715T193000
DTEND;TZID=Europe/Madrid;VALUE=DATE-TIME:20230715T203000
DTSTAMP;VALUE=DATE-TIME:20260421T114126Z
UID:b08862a8ba3748d52ce62ee57b2923b4
CREATED;VALUE=DATE-TIME:20230715T000000Z
CATEGORIES:Festa,Música,Vins i caves,Gastronomia
ORGANIZER:Agustí Torelló Mata
COMMENT:Preu: Segons consum
Durada: 19.30h - 23.30h
DESCRIPTION:Música, cava i tapes
URL:https://www.santsadurni.cat/document.php?id=19343
END:VEVENT
END:VCALENDAR