BEGIN:VCALENDAR
VERSION:2.0
PRODID:-//Plone.org//NONSGML plone.app.event//EN
X-WR-TIMEZONE:Europe/Madrid
BEGIN:VEVENT
SUMMARY:Fires i Festes 2023
DTSTART;TZID=Europe/Madrid;VALUE=DATE-TIME:20230906T000000
DTEND;TZID=Europe/Madrid;VALUE=DATE-TIME:20230906T010000
DTSTAMP;VALUE=DATE-TIME:20260422T061747Z
UID:7698500acdbd01873e953368b95ba9b3
CREATED;VALUE=DATE-TIME:20230906T000000Z
CATEGORIES:Festa
DESCRIPTION:Més informació dels actes de Fires i Festes 2023
URL:https://www.santsadurni.cat/document.php?id=19368
END:VEVENT
END:VCALENDAR