BEGIN:VCALENDAR
VERSION:2.0
PRODID:-//Plone.org//NONSGML plone.app.event//EN
X-WR-TIMEZONE:Europe/Madrid
BEGIN:VEVENT
SUMMARY:Ballada de Sardanes
DTSTART;TZID=Europe/Madrid;VALUE=DATE-TIME:20230906T183000
DTEND;TZID=Europe/Madrid;VALUE=DATE-TIME:20230906T193000
DTSTAMP;VALUE=DATE-TIME:20260424T105156Z
UID:fd0afddf5b61eb5a9bf5569ee0dccb21
CREATED;VALUE=DATE-TIME:20230906T000000Z
CATEGORIES:Dansa,Festa,Música
LOCATION:Plaça Ajuntament
DESCRIPTION:Amb la Cobla Maricel
URL:https://www.santsadurni.cat/document.php?id=19390
END:VEVENT
END:VCALENDAR