BEGIN:VCALENDAR
VERSION:2.0
PRODID:-//Plone.org//NONSGML plone.app.event//EN
X-WR-TIMEZONE:Europe/Madrid
BEGIN:VEVENT
SUMMARY:Inscripció als cursos de català
DTSTART;TZID=Europe/Madrid;VALUE=DATE-TIME:20230915T000000
DTEND;TZID=Europe/Madrid;VALUE=DATE-TIME:20230915T010000
DTSTAMP;VALUE=DATE-TIME:20260421T184634Z
UID:1026d5f1359555cc09a8bc4a8396ac78
CREATED;VALUE=DATE-TIME:20230912T000000Z
CATEGORIES:Formació
LOCATION:Casal d'Entitats - Cr. Marc Mir, 15
ORGANIZER:Consorci per a la Normalització Lingüística (CPNL)
DESCRIPTION:1r trimestre
URL:https://www.santsadurni.cat/document.php?id=19396
END:VEVENT
END:VCALENDAR