BEGIN:VCALENDAR
VERSION:2.0
PRODID:-//Plone.org//NONSGML plone.app.event//EN
X-WR-TIMEZONE:Europe/Madrid
BEGIN:VEVENT
SUMMARY:XXV trobada de puntaires Rosa Llopart
DTSTART;TZID=Europe/Madrid;VALUE=DATE-TIME:20230906T170000
DTEND;TZID=Europe/Madrid;VALUE=DATE-TIME:20230906T180000
DTSTAMP;VALUE=DATE-TIME:20260424T105215Z
UID:9ac48144e172abbddb85f9b8d003b843
CREATED;VALUE=DATE-TIME:20230906T000000Z
CATEGORIES:Mostra
LOCATION:C/ Mossèn Fontanilles
ORGANIZER:Associació de puntaires
COMMENT:Preu: gratuït
Durada: de 17h a 19,30
URL:https://www.santsadurni.cat/document.php?id=19464
END:VEVENT
END:VCALENDAR