BEGIN:VCALENDAR
VERSION:2.0
PRODID:-//Plone.org//NONSGML plone.app.event//EN
X-WR-TIMEZONE:Europe/Madrid
BEGIN:VEVENT
SUMMARY:Portes obertes al Cava Centre
DTSTART;TZID=Europe/Madrid;VALUE=DATE-TIME:20240303T000000
DTEND;TZID=Europe/Madrid;VALUE=DATE-TIME:20240303T010000
DTSTAMP;VALUE=DATE-TIME:20260421T225800Z
UID:fe383af3d9a147fb62fb6b673ead4aab
CREATED;VALUE=DATE-TIME:20240303T000000Z
CATEGORIES:Exposició,Familiar
LOCATION:Cava Centre - Cr. Hospital 23 (entrada al Centre i a l'Oficina de Turisme)
ORGANIZER:Ajuntament de Sant Sadurní d'Anoia
Servei de Turisme
COMMENT:Preu: Gratuït
DESCRIPTION:Visites gratuïtes dels elements de la Festa de la Fil·loxera i del Cava Centre
URL:https://www.santsadurni.cat/document.php?id=19978
END:VEVENT
END:VCALENDAR