BEGIN:VCALENDAR
VERSION:2.0
PRODID:-//Plone.org//NONSGML plone.app.event//EN
X-WR-TIMEZONE:Europe/Madrid
BEGIN:VEVENT
SUMMARY:Acte d'agraïment campanyes de recollida d'ampolles de cava buides
DTSTART;TZID=Europe/Madrid;VALUE=DATE-TIME:20240303T173000
DTEND;TZID=Europe/Madrid;VALUE=DATE-TIME:20240303T183000
DTSTAMP;VALUE=DATE-TIME:20260422T014437Z
UID:4dd58605722758d46dd230e63f3d3535
CREATED;VALUE=DATE-TIME:20240303T000000Z
LOCATION:La Llar
ORGANIZER:PARROQUIA SANT SADURNI
URL:https://www.santsadurni.cat/document.php?id=20015
END:VEVENT
END:VCALENDAR