BEGIN:VCALENDAR
VERSION:2.0
PRODID:-//Plone.org//NONSGML plone.app.event//EN
X-WR-TIMEZONE:Europe/Madrid
BEGIN:VEVENT
SUMMARY:"Manual de Lideratge Empresarial" una Ficció Sonora del Grup de Teatre Ona Bitlles
DTSTART;TZID=Europe/Madrid;VALUE=DATE-TIME:20240301T190000
DTEND;TZID=Europe/Madrid;VALUE=DATE-TIME:20240301T200000
DTSTAMP;VALUE=DATE-TIME:20260421T225732Z
UID:0cb97f51fd5f55c51c440c27cdedfd15
CREATED;VALUE=DATE-TIME:20240301T000000Z
CATEGORIES:Literatura,Teatre
LOCATION:Biblioteca Ramon Bosch de Noya - Plaça 1er Homenatge a la Vellesa, 10
ORGANIZER:Grup de Teatre Ona Bitlles
DESCRIPTION:Una lectura dramatitzada amb tots els efectes sonors i música, paròdia de 6 episodis sobre l'ampli i meravellós món dels negocis.
URL:https://www.santsadurni.cat/document.php?id=20084
END:VEVENT
END:VCALENDAR