BEGIN:VCALENDAR
VERSION:2.0
PRODID:-//Plone.org//NONSGML plone.app.event//EN
X-WR-TIMEZONE:Europe/Madrid
BEGIN:VEVENT
SUMMARY:Jornada de Portes Obertes a l'Escola La Pau
DTSTART;TZID=Europe/Madrid;VALUE=DATE-TIME:20240302T103000
DTEND;TZID=Europe/Madrid;VALUE=DATE-TIME:20240302T113000
DTSTAMP;VALUE=DATE-TIME:20260421T223831Z
UID:8660fb5af56b8d399a21bbb6827eaa43
CREATED;VALUE=DATE-TIME:20240302T000000Z
CATEGORIES:Familiar
LOCATION:Escola La Pau
ORGANIZER:Escola La Pau
COMMENT:Durada: De 10:30 a 13:00 hores
URL:https://www.santsadurni.cat/document.php?id=20091
END:VEVENT
END:VCALENDAR