BEGIN:VCALENDAR
VERSION:2.0
PRODID:-//Plone.org//NONSGML plone.app.event//EN
X-WR-TIMEZONE:Europe/Madrid
BEGIN:VEVENT
SUMMARY:Xerrada-Col·loqui "El repte de reconèixer-nos com a nació"
DTSTART;TZID=Europe/Madrid;VALUE=DATE-TIME:20240304T200000
DTEND;TZID=Europe/Madrid;VALUE=DATE-TIME:20240304T210000
DTSTAMP;VALUE=DATE-TIME:20260422T075748Z
UID:550635651869d009467a8051aa215850
CREATED;VALUE=DATE-TIME:20240304T000000Z
CATEGORIES:Conferència
LOCATION:Biblioteca Ramon Bosch de Noya - Plaça 1er Homenatge a la Vellesa, 10
ORGANIZER:ANC Sant Sadurní
COMMENT:Preu: Entrada lliure
Durada: 20.00h - 21.00h
URL:https://www.santsadurni.cat/document.php?id=20094
END:VEVENT
END:VCALENDAR