BEGIN:VCALENDAR
VERSION:2.0
PRODID:-//Plone.org//NONSGML plone.app.event//EN
X-WR-TIMEZONE:Europe/Madrid
BEGIN:VEVENT
SUMMARY:Sopar solidari de Mans Unides
DTSTART;TZID=Europe/Madrid;VALUE=DATE-TIME:20240302T203000
DTEND;TZID=Europe/Madrid;VALUE=DATE-TIME:20240302T213000
DTSTAMP;VALUE=DATE-TIME:20260422T063052Z
UID:1b440139980f6bde137ca4a62ce74caf
CREATED;VALUE=DATE-TIME:20240302T000000Z
CATEGORIES:Familiar
LOCATION:Celler Fassina Can Guineu - c/ Sant Pere, 42
ORGANIZER:Mans Unides Sant Sadurní
COMMENT:Preu: Adults 15 &euro;, infants 10 &euro;
Durada: 20:30 a 23:00
URL:https://www.santsadurni.cat/document.php?id=20116
END:VEVENT
END:VCALENDAR