BEGIN:VCALENDAR
VERSION:2.0
PRODID:-//Plone.org//NONSGML plone.app.event//EN
X-WR-TIMEZONE:Europe/Madrid
BEGIN:VEVENT
SUMMARY:Inauguració de l'exposició de pintura de Regina Garcia Mirabent "Il·lusió per pintar"
DTSTART;TZID=Europe/Madrid;VALUE=DATE-TIME:20240302T120000
DTEND;TZID=Europe/Madrid;VALUE=DATE-TIME:20240302T130000
DTSTAMP;VALUE=DATE-TIME:20260421T183351Z
UID:a1ef7d97a35d425389cf6d1bda8e4a03
CREATED;VALUE=DATE-TIME:20240302T000000Z
CATEGORIES:Exposició,Mostra
LOCATION:Biblioteca Ramon Bosch de Noya - Plaça 1er Homenatge a la Vellesa, 10
ORGANIZER:Biblioteca Municipal
DESCRIPTION:L'exposició es podrà veure de l'1 al 28 de març
URL:https://www.santsadurni.cat/document.php?id=20164
END:VEVENT
END:VCALENDAR