BEGIN:VCALENDAR
VERSION:2.0
PRODID:-//Plone.org//NONSGML plone.app.event//EN
X-WR-TIMEZONE:Europe/Madrid
BEGIN:VEVENT
SUMMARY:In Taverna Quando Sumus
DTSTART;TZID=Europe/Madrid;VALUE=DATE-TIME:20240310T123000
DTEND;TZID=Europe/Madrid;VALUE=DATE-TIME:20240310T133000
DTSTAMP;VALUE=DATE-TIME:20260424T122033Z
UID:a12e600236c33477c19ce4b08d69135f
CREATED;VALUE=DATE-TIME:20240310T000000Z
CATEGORIES:Música,Vins i caves
LOCATION:La Serra s/n, 08770, Sant Sadurní d'Anoia
ORGANIZER:Celler Kripta
COMMENT:Preu: 25&euro;
Durada: 12:30h
DESCRIPTION:Taller participatiu amb cant coral i cava
URL:https://www.santsadurni.cat/document.php?id=20194
END:VEVENT
END:VCALENDAR