BEGIN:VCALENDAR
VERSION:2.0
PRODID:-//Plone.org//NONSGML plone.app.event//EN
X-WR-TIMEZONE:Europe/Madrid
BEGIN:VEVENT
SUMMARY:Actuació del Duo Cabana
DTSTART;TZID=Europe/Madrid;VALUE=DATE-TIME:20240402T110000
DTEND;TZID=Europe/Madrid;VALUE=DATE-TIME:20240402T120000
DTSTAMP;VALUE=DATE-TIME:20260422T034821Z
UID:7d5e132086f9be9a478285ad729c416e
CREATED;VALUE=DATE-TIME:20240402T000000Z
CATEGORIES:Música
LOCATION:Casa dels avis
ORGANIZER:Comissió de la gent gran
COMMENT:Preu: Gratuït. Acte obert a totes les persones majors de 65 anys
DESCRIPTION:108a. Setmana de la gent gran
URL:https://www.santsadurni.cat/document.php?id=20211
END:VEVENT
END:VCALENDAR