BEGIN:VCALENDAR
VERSION:2.0
PRODID:-//Plone.org//NONSGML plone.app.event//EN
X-WR-TIMEZONE:Europe/Madrid
BEGIN:VEVENT
SUMMARY:Visita i maridatge a Caves Blancher
DTSTART;TZID=Europe/Madrid;VALUE=DATE-TIME:20240403T110000
DTEND;TZID=Europe/Madrid;VALUE=DATE-TIME:20240403T120000
DTSTAMP;VALUE=DATE-TIME:20260422T033529Z
UID:a41aa4e5baa85e33f217f5a715ed278c
CREATED;VALUE=DATE-TIME:20240403T000000Z
CATEGORIES:Vins i caves
LOCATION:Caves Blancher
ORGANIZER:Comissió de la gent gran
COMMENT:Preu: 3&euro; cal recollir tiquet
DESCRIPTION:108a. Setmana de la gent gran
URL:https://www.santsadurni.cat/document.php?id=20213
END:VEVENT
END:VCALENDAR