BEGIN:VCALENDAR
VERSION:2.0
PRODID:-//Plone.org//NONSGML plone.app.event//EN
X-WR-TIMEZONE:Europe/Madrid
BEGIN:VEVENT
SUMMARY:Activa't. Dia mundial de l'activitat física
DTSTART;TZID=Europe/Madrid;VALUE=DATE-TIME:20240405T100000
DTEND;TZID=Europe/Madrid;VALUE=DATE-TIME:20240405T110000
DTSTAMP;VALUE=DATE-TIME:20260422T034837Z
UID:d45c55397c9fd863ec117ab69e29e363
CREATED;VALUE=DATE-TIME:20240405T000000Z
CATEGORIES:Esports,Mostra,Festa,Gastronomia
LOCATION:La Llar - pl. Església -
ORGANIZER:Comissió de la gent gran i EAP Sant Sadurní
COMMENT:Preu: 6&euro; amb inscripció pel dinar
Durada: Fins les 16h
DESCRIPTION:108a. Setmana de la gent gran
URL:https://www.santsadurni.cat/document.php?id=20217
END:VEVENT
END:VCALENDAR