BEGIN:VCALENDAR
VERSION:2.0
PRODID:-//Plone.org//NONSGML plone.app.event//EN
X-WR-TIMEZONE:Europe/Madrid
BEGIN:VEVENT
SUMMARY:Visita al Cava Centre en família
DTSTART;TZID=Europe/Madrid;VALUE=DATE-TIME:20240330T110000
DTEND;TZID=Europe/Madrid;VALUE=DATE-TIME:20240330T120000
DTSTAMP;VALUE=DATE-TIME:20260421T132019Z
UID:f20a97d5438a1515df8fc2c76894a860
CREATED;VALUE=DATE-TIME:20240330T000000Z
CATEGORIES:Familiar
LOCATION:Cava Centre - Cr. Hospital 23 (entrada al Centre i a l'Oficina de Turisme)
ORGANIZER:Ajuntament de Sant Sadurní d'Anoia
Servei de Turisme
COMMENT:Preu: 6,00 &euro;. Gratuït fins a 6 anys i amb carnet SX3
Cal reserva prèvia
Durada: 1 hora
DESCRIPTION:A la recerca dels ous de Pasqua amagats
URL:https://www.santsadurni.cat/document.php?id=20258
END:VEVENT
END:VCALENDAR