BEGIN:VCALENDAR
VERSION:2.0
PRODID:-//Plone.org//NONSGML plone.app.event//EN
X-WR-TIMEZONE:Europe/Madrid
BEGIN:VEVENT
SUMMARY:Missa solemne Festa de la Mare de Déu de Montserrat
DTSTART;TZID=Europe/Madrid;VALUE=DATE-TIME:20240427T200000
DTEND;TZID=Europe/Madrid;VALUE=DATE-TIME:20240427T210000
DTSTAMP;VALUE=DATE-TIME:20260421T200325Z
UID:f18233e5d4092dc34a0442e934f21ef2
CREATED;VALUE=DATE-TIME:20240427T000000Z
LOCATION:Església parroquial
URL:https://www.santsadurni.cat/document.php?id=20302
END:VEVENT
END:VCALENDAR