BEGIN:VCALENDAR
VERSION:2.0
PRODID:-//Plone.org//NONSGML plone.app.event//EN
X-WR-TIMEZONE:Europe/Madrid
BEGIN:VEVENT
SUMMARY:L'Istiu 24 - Brincadeira
DTSTART;TZID=Europe/Madrid;VALUE=DATE-TIME:20240717T220000
DTEND;TZID=Europe/Madrid;VALUE=DATE-TIME:20240717T230000
DTSTAMP;VALUE=DATE-TIME:20260424T211524Z
UID:2393a69e3654b55bdf1cccef2857a1aa
CREATED;VALUE=DATE-TIME:20240717T000000Z
CATEGORIES:Música
LOCATION:Índex. Servei de Joventut - Cr. Pompeu Fabra, 34
ORGANIZER:Regidoria de Joventut
COMMENT:Preu: Entrada gratuïta
DESCRIPTION:GLOWDRUMS és la manifestació de la unió harmoniosa entre música i matemàtiques, on els tambors i la geometria dansen en perfecta sincronia.
URL:https://www.santsadurni.cat/document.php?id=20331
END:VEVENT
END:VCALENDAR