BEGIN:VCALENDAR
VERSION:2.0
PRODID:-//Plone.org//NONSGML plone.app.event//EN
X-WR-TIMEZONE:Europe/Madrid
BEGIN:VEVENT
SUMMARY:"Instruccions per Enterrar un Pare" amb el Grup de Teatre Amateur de Sant Sadurní
DTSTART;TZID=Europe/Madrid;VALUE=DATE-TIME:20240511T200000
DTEND;TZID=Europe/Madrid;VALUE=DATE-TIME:20240511T210000
DTSTAMP;VALUE=DATE-TIME:20260422T051154Z
UID:a6ad2d9be6fdba0209d9ddc5089d10a8
CREATED;VALUE=DATE-TIME:20240511T000000Z
CATEGORIES:Teatre
LOCATION:Celler Fassina Can Guineu - c/ Sant Pere, 42
ORGANIZER:Regidoria de Cultura i Celobert Teatre
COMMENT:Preu: 5&euro;
Durada: 1 hora 30 min.
URL:https://www.santsadurni.cat/document.php?id=20429
END:VEVENT
END:VCALENDAR