BEGIN:VCALENDAR
VERSION:2.0
PRODID:-//Plone.org//NONSGML plone.app.event//EN
X-WR-TIMEZONE:Europe/Madrid
BEGIN:VEVENT
SUMMARY:Visita i tast del cava del mes al Cava Centre
DTSTART;TZID=Europe/Madrid;VALUE=DATE-TIME:20240531T000000
DTEND;TZID=Europe/Madrid;VALUE=DATE-TIME:20240531T010000
DTSTAMP;VALUE=DATE-TIME:20260424T104107Z
UID:05d9d221dab999b82ea729ff63836743
CREATED;VALUE=DATE-TIME:20240511T000000Z
CATEGORIES:Vins i caves
LOCATION:Cava Centre - Cr. Hospital 23 (entrada al Centre i a l'Oficina de Turisme)
ORGANIZER:Ajuntament de Sant Sadurní d'Anoia
COMMENT:Preu: 6,00 &euro;. Descomptes per a infants, jubilats/des i residents
DESCRIPTION:Fonpinet Brut Nature Reserva Etiqueta Negra
URL:https://www.santsadurni.cat/document.php?id=20559
END:VEVENT
END:VCALENDAR