BEGIN:VCALENDAR
VERSION:2.0
PRODID:-//Plone.org//NONSGML plone.app.event//EN
X-WR-TIMEZONE:Europe/Madrid
BEGIN:VEVENT
SUMMARY:Dia Internacional dels Museus al Cava Centre
DTSTART;TZID=Europe/Madrid;VALUE=DATE-TIME:20240518T000000
DTEND;TZID=Europe/Madrid;VALUE=DATE-TIME:20240518T010000
DTSTAMP;VALUE=DATE-TIME:20260424T104133Z
UID:886134fe57c357edbcc85adbf9806d4c
CREATED;VALUE=DATE-TIME:20240518T000000Z
CATEGORIES:Exposició,Vins i caves
LOCATION:Cava Centre - Cr. Hospital 23 (entrada al Centre i a l'Oficina de Turisme)
ORGANIZER:Ajuntament de Sant Sadurní d'Anoia
Servei de Turisme
COMMENT:Preu: Gratuït
DESCRIPTION:Visites gratuïtes obertes a tots els públics
URL:https://www.santsadurni.cat/document.php?id=20561
END:VEVENT
END:VCALENDAR