BEGIN:VCALENDAR
VERSION:2.0
PRODID:-//Plone.org//NONSGML plone.app.event//EN
X-WR-TIMEZONE:Europe/Madrid
BEGIN:VEVENT
SUMMARY:IV Cicle de tastos al Pati de Can Guineu: Les bombolles al col·lectiu Vida Penedès
DTSTART;TZID=Europe/Madrid;VALUE=DATE-TIME:20240725T200000
DTEND;TZID=Europe/Madrid;VALUE=DATE-TIME:20240725T210000
DTSTAMP;VALUE=DATE-TIME:20260424T160647Z
UID:b4091219026c2c515c602f28c0cb8658
CREATED;VALUE=DATE-TIME:20240725T000000Z
CATEGORIES:Vins i caves,Formació
LOCATION:Pati de Can Guineu - Plaça de l'Era d'en Guineu
ORGANIZER:Cal Feru i Ajuntament de Sant Sadurní d'Anoia
COMMENT:Preu: 35 &euro;. Compra d'entrada
URL:https://www.santsadurni.cat/document.php?id=20673
END:VEVENT
END:VCALENDAR