BEGIN:VCALENDAR
VERSION:2.0
PRODID:-//Plone.org//NONSGML plone.app.event//EN
X-WR-TIMEZONE:Europe/Madrid
BEGIN:VEVENT
SUMMARY:Sortida a l'Urgell-Tàrrega
DTSTART;TZID=Europe/Madrid;VALUE=DATE-TIME:20240919T081500
DTEND;TZID=Europe/Madrid;VALUE=DATE-TIME:20240919T091500
DTSTAMP;VALUE=DATE-TIME:20260425T003311Z
UID:34adb2d3b600148bbc633885e2269a6f
CREATED;VALUE=DATE-TIME:20240919T000000Z
LOCATION:Espai la Caixa, Sant Antoni 26
ORGANIZER:Associació de Jubilats de Sant Sadurní d'Anoia. Espai La Caixa
COMMENT:Preu: 55&euro;
URL:https://www.santsadurni.cat/document.php?id=20702
END:VEVENT
END:VCALENDAR