BEGIN:VCALENDAR
VERSION:2.0
PRODID:-//Plone.org//NONSGML plone.app.event//EN
X-WR-TIMEZONE:Europe/Madrid
BEGIN:VEVENT
SUMMARY:Matrículació Centre de Formació d'Adults
DTSTART;TZID=Europe/Madrid;VALUE=DATE-TIME:20240906T163000
DTEND;TZID=Europe/Madrid;VALUE=DATE-TIME:20240906T173000
DTSTAMP;VALUE=DATE-TIME:20260422T151342Z
UID:2a653117827e3d1470552fd564d5d0aa
CREATED;VALUE=DATE-TIME:20240906T000000Z
CATEGORIES:Formació
LOCATION:Altre (ho explico més avall)
DESCRIPTION:Període de matriculació del 4 al 6 de setembre 2024. Del 10 al 13 de setembre alumnat en llista d'espera.
URL:https://www.santsadurni.cat/document.php?id=20745
END:VEVENT
END:VCALENDAR