BEGIN:VCALENDAR
VERSION:2.0
PRODID:-//Plone.org//NONSGML plone.app.event//EN
X-WR-TIMEZONE:Europe/Madrid
BEGIN:VEVENT
SUMMARY:Visita i tast del cava del mes al Cava Centre
DTSTART;TZID=Europe/Madrid;VALUE=DATE-TIME:20240731T000000
DTEND;TZID=Europe/Madrid;VALUE=DATE-TIME:20240731T010000
DTSTAMP;VALUE=DATE-TIME:20260424T161025Z
UID:d1fcde9d203a7a2c29bbc001f785ea6a
CREATED;VALUE=DATE-TIME:20240702T000000Z
CATEGORIES:Vins i caves
LOCATION:Cava Centre - Cr. Hospital 23 (entrada al Centre i a l'Oficina de Turisme)
COMMENT:Preu: 6 &euro;/persona. Descomptes per a jubilats/des, infants, estudiants i famílies nombroses.
Durada: 1 hora
DESCRIPTION:Mercat Reserva Brut Nature Special Edition
URL:https://www.santsadurni.cat/document.php?id=20788
END:VEVENT
END:VCALENDAR