BEGIN:VCALENDAR
VERSION:2.0
PRODID:-//Plone.org//NONSGML plone.app.event//EN
X-WR-TIMEZONE:Europe/Madrid
BEGIN:VEVENT
SUMMARY:Ballada de sardanes
DTSTART;TZID=Europe/Madrid;VALUE=DATE-TIME:20240906T183000
DTEND;TZID=Europe/Madrid;VALUE=DATE-TIME:20240906T193000
DTSTAMP;VALUE=DATE-TIME:20260422T151507Z
UID:3332506cfe4fb351205cd1886f86e8db
CREATED;VALUE=DATE-TIME:20240906T000000Z
CATEGORIES:Dansa,Festa,Música
LOCATION:Plaça de l'Ajuntament.
ORGANIZER:Foment Sardanista i Regidoria de cultura.
DESCRIPTION:Amb la cobla Sant Jordi
URL:https://www.santsadurni.cat/document.php?id=20793
END:VEVENT
END:VCALENDAR