BEGIN:VCALENDAR
VERSION:2.0
PRODID:-//Plone.org//NONSGML plone.app.event//EN
X-WR-TIMEZONE:Europe/Madrid
BEGIN:VEVENT
SUMMARY:Presentació del conte "Sota el groc" a càrrec dels seus autors: Júlia Gumà i Álvaro Torres.
DTSTART;TZID=Europe/Madrid;VALUE=DATE-TIME:20240902T180000
DTEND;TZID=Europe/Madrid;VALUE=DATE-TIME:20240902T190000
DTSTAMP;VALUE=DATE-TIME:20260424T053739Z
UID:b1a785a20814ec12cca4113c45087e94
CREATED;VALUE=DATE-TIME:20240902T000000Z
CATEGORIES:Literatura,Infantils,Familiar
LOCATION:Biblioteca Ramon Bosch de Noya - Plaça 1er Homenatge a la Vellesa, 10
ORGANIZER:Biblioteca Municipal Ramon Bosch de Noya amb la col·laboració de l'Associació Festa de la Fil·loxera i Edicions Andana
COMMENT:Preu: Gratuït, sense inscripció prèvia
Durada: 60 minuts aproximadament
DESCRIPTION:Per a públic familiar amb infants a partir d' I3, sense inscripció prèvia.

URL:https://www.santsadurni.cat/document.php?id=20811
END:VEVENT
END:VCALENDAR