BEGIN:VCALENDAR
VERSION:2.0
PRODID:-//Plone.org//NONSGML plone.app.event//EN
X-WR-TIMEZONE:Europe/Madrid
BEGIN:VEVENT
SUMMARY:Fires i Festes 2024
DTSTART;TZID=Europe/Madrid;VALUE=DATE-TIME:20240907T000000
DTEND;TZID=Europe/Madrid;VALUE=DATE-TIME:20240907T010000
DTSTAMP;VALUE=DATE-TIME:20260422T151141Z
UID:a1bf4f8131cf022e988091018b680c2c
CREATED;VALUE=DATE-TIME:20240907T000000Z
CATEGORIES:Festa
DESCRIPTION:Més informació dels actes de Fires i Festes 2024
URL:https://www.santsadurni.cat/document.php?id=20858
END:VEVENT
END:VCALENDAR