BEGIN:VCALENDAR
VERSION:2.0
PRODID:-//Plone.org//NONSGML plone.app.event//EN
X-WR-TIMEZONE:Europe/Madrid
BEGIN:VEVENT
SUMMARY:Open Natura BTT Sant Sadurní
DTSTART;TZID=Europe/Madrid;VALUE=DATE-TIME:20240915T083000
DTEND;TZID=Europe/Madrid;VALUE=DATE-TIME:20240915T093000
DTSTAMP;VALUE=DATE-TIME:20260422T075812Z
UID:2bb6bae20fffb442b45ee6cbddeaaae4
CREATED;VALUE=DATE-TIME:20240915T000000Z
CATEGORIES:Esports
URL:https://www.santsadurni.cat/document.php?id=20903
END:VEVENT
END:VCALENDAR