BEGIN:VCALENDAR
VERSION:2.0
PRODID:-//Plone.org//NONSGML plone.app.event//EN
X-WR-TIMEZONE:Europe/Madrid
BEGIN:VEVENT
SUMMARY:Pregó de Fires a càrrec de la periodista Roser Oliver
DTSTART;TZID=Europe/Madrid;VALUE=DATE-TIME:20240906T200000
DTEND;TZID=Europe/Madrid;VALUE=DATE-TIME:20240906T210000
DTSTAMP;VALUE=DATE-TIME:20260422T151553Z
UID:54734d5c6f8b6ddc6bea6d28cece9184
CREATED;VALUE=DATE-TIME:20240906T000000Z
LOCATION:Plaça Ajuntament
DESCRIPTION:A continuacuó actuacions de Cultura Popular
URL:https://www.santsadurni.cat/document.php?id=20935
END:VEVENT
END:VCALENDAR