BEGIN:VCALENDAR
VERSION:2.0
PRODID:-//Plone.org//NONSGML plone.app.event//EN
X-WR-TIMEZONE:Europe/Madrid
BEGIN:VEVENT
SUMMARY:La Verema del Cava
DTSTART;TZID=Europe/Madrid;VALUE=DATE-TIME:20240921T000000
DTEND;TZID=Europe/Madrid;VALUE=DATE-TIME:20240921T010000
DTSTAMP;VALUE=DATE-TIME:20260425T002650Z
UID:aedb0ca69f28eda2a6d3d519405a80ae
CREATED;VALUE=DATE-TIME:20240921T000000Z
CATEGORIES:Vins i caves,Gastronomia
LOCATION:Diversos cellers
ORGANIZER:AECAVA, Associació d'Elaboradors de Cava
COMMENT:Durada: En el programa d'activitats
DESCRIPTION:Durant 4 caps de setmana, gaudeix de 30 activitats increïbles a 20 cellers elaboradors
URL:https://www.santsadurni.cat/document.php?id=20959
END:VEVENT
END:VCALENDAR