BEGIN:VCALENDAR
VERSION:2.0
PRODID:-//Plone.org//NONSGML plone.app.event//EN
X-WR-TIMEZONE:Europe/Madrid
BEGIN:VEVENT
SUMMARY:Visita comentada de les vitrines d'art &OpenCurlyDoubleQuote;El secret del petit format&CloseCurlyDoubleQuote; amb l´artista, Maria Assumpció Raventós
DTSTART;TZID=Europe/Madrid;VALUE=DATE-TIME:20240919T183000
DTEND;TZID=Europe/Madrid;VALUE=DATE-TIME:20240919T193000
DTSTAMP;VALUE=DATE-TIME:20260424T220836Z
UID:1033bb0a482048ec285f32ec4fff846d
CREATED;VALUE=DATE-TIME:20240919T000000Z
CATEGORIES:Exposició,Mostra,Literatura
LOCATION:Biblioteca Ramon Bosch de Noya - Plaça 1er Homenatge a la Vellesa, 10
ORGANIZER:Biblioteca Municipal
COMMENT:Durada: Fins les 20:00
URL:https://www.santsadurni.cat/document.php?id=20965
END:VEVENT
END:VCALENDAR