BEGIN:VCALENDAR
VERSION:2.0
PRODID:-//Plone.org//NONSGML plone.app.event//EN
X-WR-TIMEZONE:Europe/Madrid
BEGIN:VEVENT
SUMMARY:Visita i tast del mes al Cava Centre
DTSTART;TZID=Europe/Madrid;VALUE=DATE-TIME:20240911T000000
DTEND;TZID=Europe/Madrid;VALUE=DATE-TIME:20240911T010000
DTSTAMP;VALUE=DATE-TIME:20260424T210630Z
UID:e95239c5308b6d755460edaea78651e4
CREATED;VALUE=DATE-TIME:20240911T000000Z
CATEGORIES:Visita guiada,Vins i caves
LOCATION:Cava Centre - Cr. Hospital 23 (entrada al Centre i a l'Oficina de Turisme)
ORGANIZER:Ajuntament de Sant Sadurní d'Anoia
COMMENT:Preu: 6,00 &euro;. Descomptes per a infants, jubilats/des i residents
Durada: 1 hora
DESCRIPTION:Jané & Santacana Reserva Brut Nature Etiqueta Or
URL:https://www.santsadurni.cat/document.php?id=20983
END:VEVENT
END:VCALENDAR