BEGIN:VCALENDAR
VERSION:2.0
PRODID:-//Plone.org//NONSGML plone.app.event//EN
X-WR-TIMEZONE:Europe/Madrid
BEGIN:VEVENT
SUMMARY:Visita de la Unitat Mòbil d'informació al consumidor
DTSTART;TZID=Europe/Madrid;VALUE=DATE-TIME:20240919T103000
DTEND;TZID=Europe/Madrid;VALUE=DATE-TIME:20240919T113000
DTSTAMP;VALUE=DATE-TIME:20260424T210452Z
UID:0480ad782818659bd323e4b9633b6cdb
CREATED;VALUE=DATE-TIME:20240919T000000Z
LOCATION:Era d'en Guineu
ORGANIZER:Diputació de Barcelona
COMMENT:Durada: De 10:30 a 13h
URL:https://www.santsadurni.cat/document.php?id=20991
END:VEVENT
END:VCALENDAR