BEGIN:VCALENDAR
VERSION:2.0
PRODID:-//Plone.org//NONSGML plone.app.event//EN
X-WR-TIMEZONE:Europe/Madrid
BEGIN:VEVENT
SUMMARY:Ball Berenar del Casal Municipal
DTSTART;TZID=Europe/Madrid;VALUE=DATE-TIME:20241025T170000
DTEND;TZID=Europe/Madrid;VALUE=DATE-TIME:20241025T180000
DTSTAMP;VALUE=DATE-TIME:20260425T201225Z
UID:fd48ae19e54dd8e00c455be7fe6a6c40
CREATED;VALUE=DATE-TIME:20241025T000000Z
CATEGORIES:Festa
LOCATION:Casal Municipal de la Gent Gran Sant Sadurní - Ps. Can Ferrer 11
ORGANIZER:Junta del Ball Berenar
COMMENT:Preu: 12&euro;
Durada: Dues hores i mitja
URL:https://www.santsadurni.cat/document.php?id=20995
END:VEVENT
END:VCALENDAR