BEGIN:VCALENDAR
VERSION:2.0
PRODID:-//Plone.org//NONSGML plone.app.event//EN
X-WR-TIMEZONE:Europe/Madrid
BEGIN:VEVENT
SUMMARY:Hora del conte " El Cicle de la vinya" a càrrec de la  Companyia Bufanúvols. Per a públic familiar amb infants a partir d'I3
DTSTART;TZID=Europe/Madrid;VALUE=DATE-TIME:20241023T173000
DTEND;TZID=Europe/Madrid;VALUE=DATE-TIME:20241023T183000
DTSTAMP;VALUE=DATE-TIME:20260425T160334Z
UID:34c9802b426722b9b6d2a4f3800f8442
CREATED;VALUE=DATE-TIME:20241023T000000Z
CATEGORIES:Literatura,Infantils,Música,Familiar
LOCATION:Biblioteca Ramon Bosch de Noya - Plaça 1er Homenatge a la Vellesa, 10
ORGANIZER:Biblioteca Municipal Ramon Bosch de Noya
COMMENT:Preu: Gratuït, sense inscripció prèvia
Durada: 45 minuts aproximadament
DESCRIPTION:Cicle Biblioteques amb DO 2024
URL:https://www.santsadurni.cat/document.php?id=21006
END:VEVENT
END:VCALENDAR