BEGIN:VCALENDAR
VERSION:2.0
PRODID:-//Plone.org//NONSGML plone.app.event//EN
X-WR-TIMEZONE:Europe/Madrid
BEGIN:VEVENT
SUMMARY:Cicle Biblioteques amb D.O. Conferència &OpenCurlyDoubleQuote;L'art en les etiquetes del vi&CloseCurlyDoubleQuote; a càrrec de Dolors García, ex presidenta de l'IEP, Relacions públiques i Jurista
DTSTART;TZID=Europe/Madrid;VALUE=DATE-TIME:20241023T190000
DTEND;TZID=Europe/Madrid;VALUE=DATE-TIME:20241023T200000
DTSTAMP;VALUE=DATE-TIME:20260425T160514Z
UID:1aed42fd06eea9583135b0f5f6204287
CREATED;VALUE=DATE-TIME:20241023T000000Z
CATEGORIES:Literatura,Conferència
LOCATION:Biblioteca Ramon Bosch de Noya - Plaça 1er Homenatge a la Vellesa, 10
ORGANIZER:Biblioteca Municipal, Institut d'Estudis Penedesencs i Caves Juvé i Camps
URL:https://www.santsadurni.cat/document.php?id=21018
END:VEVENT
END:VCALENDAR