BEGIN:VCALENDAR
VERSION:2.0
PRODID:-//Plone.org//NONSGML plone.app.event//EN
X-WR-TIMEZONE:Europe/Madrid
BEGIN:VEVENT
SUMMARY:Cicle Biblioteques amb D.O. Sessió de Tast Comentat
DTSTART;TZID=Europe/Madrid;VALUE=DATE-TIME:20241024T110000
DTEND;TZID=Europe/Madrid;VALUE=DATE-TIME:20241024T120000
DTSTAMP;VALUE=DATE-TIME:20260425T173028Z
UID:b47a2952c0f08d79e66ccb3b08fc8332
CREATED;VALUE=DATE-TIME:20241024T000000Z
CATEGORIES:Literatura,Vins i caves
LOCATION:Biblioteca Ramon Bosch de Noya - Plaça 1er Homenatge a la Vellesa, 10
ORGANIZER:Biblioteca Municipal amb la col·laboració de l'Escola Agrària d'Espiells i les Caves Juvé i Camps
URL:https://www.santsadurni.cat/document.php?id=21019
END:VEVENT
END:VCALENDAR