BEGIN:VCALENDAR
VERSION:2.0
PRODID:-//Plone.org//NONSGML plone.app.event//EN
X-WR-TIMEZONE:Europe/Madrid
BEGIN:VEVENT
SUMMARY:Inici curs parròquia Sant Sadurní
DTSTART;TZID=Europe/Madrid;VALUE=DATE-TIME:20241019T200000
DTEND;TZID=Europe/Madrid;VALUE=DATE-TIME:20241019T210000
DTSTAMP;VALUE=DATE-TIME:20260425T132612Z
UID:c50735f859144c73ed6b376d0f8fd691
CREATED;VALUE=DATE-TIME:20241019T000000Z
LOCATION:Església parroquial
URL:https://www.santsadurni.cat/document.php?id=21021
END:VEVENT
END:VCALENDAR