BEGIN:VCALENDAR
VERSION:2.0
PRODID:-//Plone.org//NONSGML plone.app.event//EN
X-WR-TIMEZONE:Europe/Madrid
BEGIN:VEVENT
SUMMARY:Oficis perduts: artesans cistellers
DTSTART;TZID=Europe/Madrid;VALUE=DATE-TIME:20241024T190000
DTEND;TZID=Europe/Madrid;VALUE=DATE-TIME:20241024T200000
DTSTAMP;VALUE=DATE-TIME:20260425T160236Z
UID:88c77a14da28b0b71ae71fa9cc3e8d92
CREATED;VALUE=DATE-TIME:20241024T000000Z
CATEGORIES:Conferència
LOCATION:Casal d'Entitats (AULA 1) - Cr. Marc Mir, 15
ORGANIZER:Regidoria de cultura
COMMENT:Durada: 1:30 h
DESCRIPTION:Detalls de memòria històrica de Sant Sadurní
URL:https://www.santsadurni.cat/document.php?id=21025
END:VEVENT
END:VCALENDAR