BEGIN:VCALENDAR
VERSION:2.0
PRODID:-//Plone.org//NONSGML plone.app.event//EN
X-WR-TIMEZONE:Europe/Madrid
BEGIN:VEVENT
SUMMARY:Tens un lloc al meu cor
DTSTART;TZID=Europe/Madrid;VALUE=DATE-TIME:20241022T180000
DTEND;TZID=Europe/Madrid;VALUE=DATE-TIME:20241022T190000
DTSTAMP;VALUE=DATE-TIME:20260425T132342Z
UID:9fa075d3bc0f29daee7827b1a3660d70
CREATED;VALUE=DATE-TIME:20241022T000000Z
LOCATION:Can Mas
ORGANIZER:Grup de famílies i Ajuntament de Sant Sadurní d'Anoia
COMMENT:Preu: Gratuït
Durada: 1'5 hores
DESCRIPTION:Taller a càrrec de Cristina Viladoms
URL:https://www.santsadurni.cat/document.php?id=21028
END:VEVENT
END:VCALENDAR