BEGIN:VCALENDAR
VERSION:2.0
PRODID:-//Plone.org//NONSGML plone.app.event//EN
X-WR-TIMEZONE:Europe/Madrid
BEGIN:VEVENT
SUMMARY:Tardeo La Perla amb concert de The Preachers
DTSTART;TZID=Europe/Madrid;VALUE=DATE-TIME:20241018T183000
DTEND;TZID=Europe/Madrid;VALUE=DATE-TIME:20241018T193000
DTSTAMP;VALUE=DATE-TIME:20260425T145113Z
UID:00d7ca15d888142df45ce76109abddb0
CREATED;VALUE=DATE-TIME:20241018T000000Z
CATEGORIES:Música,Vins i caves,Gastronomia
LOCATION:Restaurant La Perla
ORGANIZER:Restaurant La Perla
COMMENT:Durada: Tardeo a partir de les 18:30 i concert a partir de les 21:30
DESCRIPTION:Pinxos, vins i caves i concert amb música dels 80
URL:https://www.santsadurni.cat/document.php?id=21032
END:VEVENT
END:VCALENDAR