BEGIN:VCALENDAR
VERSION:2.0
PRODID:-//Plone.org//NONSGML plone.app.event//EN
X-WR-TIMEZONE:Europe/Madrid
BEGIN:VEVENT
SUMMARY:Tast amistós: vins de garnatxa negra
DTSTART;TZID=Europe/Madrid;VALUE=DATE-TIME:20241024T200000
DTEND;TZID=Europe/Madrid;VALUE=DATE-TIME:20241024T210000
DTSTAMP;VALUE=DATE-TIME:20260425T185916Z
UID:972290d4dcdf152ca61deda422bb4fe1
CREATED;VALUE=DATE-TIME:20241024T000000Z
CATEGORIES:Vins i caves
LOCATION:Cal Feru eno·botiga
ORGANIZER:Cellers Cal Feru
COMMENT:Preu: 24
Durada: 20h a 22h
URL:https://www.santsadurni.cat/document.php?id=21034
END:VEVENT
END:VCALENDAR