BEGIN:VCALENDAR
VERSION:2.0
PRODID:-//Plone.org//NONSGML plone.app.event//EN
X-WR-TIMEZONE:Europe/Madrid
BEGIN:VEVENT
SUMMARY:Cicle Biblioteques amb D.O. Especialistes amb Ferran Centelles, exsommelier d'El Bulli
DTSTART;TZID=Europe/Madrid;VALUE=DATE-TIME:20241018T190000
DTEND;TZID=Europe/Madrid;VALUE=DATE-TIME:20241018T200000
DTSTAMP;VALUE=DATE-TIME:20260425T172946Z
UID:f43f39e1f79b61418f8e6a36d0dbfbc6
CREATED;VALUE=DATE-TIME:20241018T000000Z
CATEGORIES:Literatura,Vins i caves
LOCATION:Caves Juvé & Camps - Carrer Sant Venat, 1 de Sant Sadurní d'Anoia
ORGANIZER:Biblioteca Municipal i Caves Juvé & Camps
URL:https://www.santsadurni.cat/document.php?id=21039
END:VEVENT
END:VCALENDAR